Package: GAPGOM Version: 1.15.1 Command: /home/biocbuild/bbs-3.17-bioc/R/bin/R CMD INSTALL GAPGOM StartedAt: 2023-04-12 01:40:27 -0400 (Wed, 12 Apr 2023) EndedAt: 2023-04-12 01:41:05 -0400 (Wed, 12 Apr 2023) EllapsedTime: 38.9 seconds RetCode: 0 Status: OK