Package: FamAgg Version: 1.27.0 Command: /home/biocbuild/bbs-3.17-bioc/R/bin/R CMD INSTALL FamAgg StartedAt: 2023-04-12 01:59:21 -0400 (Wed, 12 Apr 2023) EndedAt: 2023-04-12 01:59:35 -0400 (Wed, 12 Apr 2023) EllapsedTime: 14.0 seconds RetCode: 0 Status: OK