Package: EpiCompare Version: 1.3.4 Command: /home/biocbuild/bbs-3.17-bioc/R/bin/R CMD INSTALL EpiCompare StartedAt: 2023-04-12 02:05:03 -0400 (Wed, 12 Apr 2023) EndedAt: 2023-04-12 02:06:03 -0400 (Wed, 12 Apr 2023) EllapsedTime: 59.7 seconds RetCode: 0 Status: OK