Package: EnhancedVolcano Version: 1.17.0 Command: /home/biocbuild/bbs-3.17-bioc/R/bin/R CMD build --keep-empty-dirs --no-resave-data EnhancedVolcano StartedAt: 2023-04-12 02:44:55 -0400 (Wed, 12 Apr 2023) EndedAt: 2023-04-12 02:46:30 -0400 (Wed, 12 Apr 2023) EllapsedTime: 94.3 seconds RetCode: 0 Status: OK PackageFile: EnhancedVolcano_1.17.0.tar.gz PackageFileSize: 8.928 MiB