Package: EmpiricalBrownsMethod Version: 1.27.0 Command: /home/biocbuild/bbs-3.17-bioc/R/bin/R CMD build --keep-empty-dirs --no-resave-data EmpiricalBrownsMethod StartedAt: 2023-04-12 02:44:52 -0400 (Wed, 12 Apr 2023) EndedAt: 2023-04-12 02:44:55 -0400 (Wed, 12 Apr 2023) EllapsedTime: 3.0 seconds RetCode: 0 Status: OK PackageFile: EmpiricalBrownsMethod_1.27.0.tar.gz PackageFileSize: 38.67 KiB