Package: EBSeq Version: 1.39.0 Command: /home/biocbuild/bbs-3.17-bioc/R/bin/R CMD build --keep-empty-dirs --no-resave-data EBSeq StartedAt: 2023-04-12 02:44:12 -0400 (Wed, 12 Apr 2023) EndedAt: 2023-04-12 02:45:11 -0400 (Wed, 12 Apr 2023) EllapsedTime: 59.2 seconds RetCode: 0 Status: OK PackageFile: EBSeq_1.39.0.tar.gz PackageFileSize: 1.288 MiB