Package: DNAfusion Version: 1.1.2 Command: /home/biocbuild/bbs-3.17-bioc/R/bin/R CMD build --keep-empty-dirs --no-resave-data DNAfusion StartedAt: 2023-04-11 16:22:48 -0400 (Tue, 11 Apr 2023) EndedAt: 2023-04-11 16:25:39 -0400 (Tue, 11 Apr 2023) EllapsedTime: 170.2 seconds RetCode: 0 Status: OK PackageFile: DNAfusion_1.1.2.tar.gz PackageFileSize: 6.297 MiB