Package: DNAcopy Version: 1.73.0 Command: /home/biocbuild/bbs-3.17-bioc/R/bin/R CMD build --keep-empty-dirs --no-resave-data DNAcopy StartedAt: 2023-04-12 02:42:18 -0400 (Wed, 12 Apr 2023) EndedAt: 2023-04-12 02:42:27 -0400 (Wed, 12 Apr 2023) EllapsedTime: 9.0 seconds RetCode: 0 Status: OK PackageFile: DNAcopy_1.73.0.tar.gz PackageFileSize: 290.6 KiB