Package: DAPAR Version: 1.31.6 Command: /home/biocbuild/bbs-3.17-bioc/R/bin/R CMD build --keep-empty-dirs --no-resave-data DAPAR StartedAt: 2023-04-12 02:37:08 -0400 (Wed, 12 Apr 2023) EndedAt: 2023-04-12 02:37:09 -0400 (Wed, 12 Apr 2023) EllapsedTime: 1.0 seconds RetCode: 0 Status: OK PackageFile: DAPAR_1.31.6.tar.gz PackageFileSize: 145.1 KiB