Package: Clomial Version: 1.35.0 Command: /home/biocbuild/bbs-3.17-bioc/R/bin/R CMD build --keep-empty-dirs --no-resave-data Clomial StartedAt: 2023-04-12 02:28:59 -0400 (Wed, 12 Apr 2023) EndedAt: 2023-04-12 02:29:13 -0400 (Wed, 12 Apr 2023) EllapsedTime: 14.1 seconds RetCode: 0 Status: OK PackageFile: Clomial_1.35.0.tar.gz PackageFileSize: 1.35 MiB