Package: ChIPXpress Version: 1.43.0 Command: /home/biocbuild/bbs-3.17-bioc/R/bin/R CMD INSTALL ChIPXpress StartedAt: 2023-04-12 01:42:22 -0400 (Wed, 12 Apr 2023) EndedAt: 2023-04-12 01:43:04 -0400 (Wed, 12 Apr 2023) EllapsedTime: 41.4 seconds RetCode: 0 Status: OK