Package: ChIPComp Version: 1.29.0 Command: /home/biocbuild/bbs-3.17-bioc/R/bin/R CMD build --keep-empty-dirs --no-resave-data ChIPComp StartedAt: 2023-04-12 02:26:59 -0400 (Wed, 12 Apr 2023) EndedAt: 2023-04-12 02:27:54 -0400 (Wed, 12 Apr 2023) EllapsedTime: 55.3 seconds RetCode: 0 Status: OK PackageFile: ChIPComp_1.29.0.tar.gz PackageFileSize: 589.2 KiB