Package: CellMixS Version: 1.15.0 Command: /home/biocbuild/bbs-3.17-bioc/R/bin/R CMD INSTALL CellMixS StartedAt: 2023-04-11 15:35:31 -0400 (Tue, 11 Apr 2023) EndedAt: 2023-04-11 15:35:56 -0400 (Tue, 11 Apr 2023) EllapsedTime: 25.5 seconds RetCode: 0 Status: OK