Package: CONSTANd Version: 1.7.0 Command: /home/biocbuild/bbs-3.17-bioc/R/bin/R CMD INSTALL CONSTANd StartedAt: 2023-04-12 01:32:43 -0400 (Wed, 12 Apr 2023) EndedAt: 2023-04-12 01:33:02 -0400 (Wed, 12 Apr 2023) EllapsedTime: 18.5 seconds RetCode: 0 Status: OK