Package: COCOA Version: 2.13.0 Command: /home/biocbuild/bbs-3.17-bioc/R/bin/R CMD build --keep-empty-dirs --no-resave-data COCOA StartedAt: 2023-04-12 02:30:53 -0400 (Wed, 12 Apr 2023) EndedAt: 2023-04-12 02:32:46 -0400 (Wed, 12 Apr 2023) EllapsedTime: 113.4 seconds RetCode: 0 Status: OK PackageFile: COCOA_2.13.0.tar.gz PackageFileSize: 3.268 MiB