Package: CNVrd2 Version: 1.37.0 Command: /home/biocbuild/bbs-3.17-bioc/R/bin/R CMD INSTALL CNVrd2 StartedAt: 2023-04-12 01:48:14 -0400 (Wed, 12 Apr 2023) EndedAt: 2023-04-12 01:49:17 -0400 (Wed, 12 Apr 2023) EllapsedTime: 63.1 seconds RetCode: 0 Status: OK