Package: CNVMetrics Version: 1.3.0 Command: /home/biocbuild/bbs-3.17-bioc/R/bin/R CMD INSTALL CNVMetrics StartedAt: 2023-04-12 01:40:26 -0400 (Wed, 12 Apr 2023) EndedAt: 2023-04-12 01:40:42 -0400 (Wed, 12 Apr 2023) EllapsedTime: 15.6 seconds RetCode: 0 Status: OK