Package: CMA Version: 1.57.0 Command: /home/biocbuild/bbs-3.17-bioc/R/bin/R CMD build --keep-empty-dirs --no-resave-data CMA StartedAt: 2023-04-12 02:30:04 -0400 (Wed, 12 Apr 2023) EndedAt: 2023-04-12 02:30:31 -0400 (Wed, 12 Apr 2023) EllapsedTime: 27.1 seconds RetCode: 0 Status: OK PackageFile: CMA_1.57.0.tar.gz PackageFileSize: 1.022 MiB