Package: BiocNeighbors Version: 1.17.1 Command: /home/biocbuild/bbs-3.17-bioc/R/bin/R CMD INSTALL BiocNeighbors StartedAt: 2023-04-12 01:39:20 -0400 (Wed, 12 Apr 2023) EndedAt: 2023-04-12 01:42:22 -0400 (Wed, 12 Apr 2023) EllapsedTime: 181.9 seconds RetCode: 0 Status: OK