Package: BioNAR Version: 1.1.1 Command: /home/biocbuild/bbs-3.17-bioc/R/bin/R CMD INSTALL BioNAR StartedAt: 2023-04-12 02:05:03 -0400 (Wed, 12 Apr 2023) EndedAt: 2023-04-12 02:05:54 -0400 (Wed, 12 Apr 2023) EllapsedTime: 50.5 seconds RetCode: 0 Status: OK