Package: BgeeCall Version: 1.15.0 Command: /home/biocbuild/bbs-3.17-bioc/R/bin/R CMD INSTALL BgeeCall StartedAt: 2023-04-12 01:46:08 -0400 (Wed, 12 Apr 2023) EndedAt: 2023-04-12 01:47:00 -0400 (Wed, 12 Apr 2023) EllapsedTime: 51.8 seconds RetCode: 0 Status: OK