Package: BG2 Version: 0.99.2 Command: /home/biocbuild/bbs-3.17-bioc/R/bin/R CMD INSTALL BG2 StartedAt: 2023-04-12 01:59:00 -0400 (Wed, 12 Apr 2023) EndedAt: 2023-04-12 01:59:05 -0400 (Wed, 12 Apr 2023) EllapsedTime: 4.5 seconds RetCode: 0 Status: OK