Package: BADER Version: 1.37.0 Command: /home/biocbuild/bbs-3.17-bioc/R/bin/R CMD build --keep-empty-dirs --no-resave-data BADER StartedAt: 2023-04-12 02:13:45 -0400 (Wed, 12 Apr 2023) EndedAt: 2023-04-12 02:13:59 -0400 (Wed, 12 Apr 2023) EllapsedTime: 14.0 seconds RetCode: 0 Status: OK PackageFile: BADER_1.37.0.tar.gz PackageFileSize: 142.9 KiB