Package: AnnotationDbi Version: 1.61.2 Command: /home/biocbuild/bbs-3.17-bioc/R/bin/R CMD INSTALL AnnotationDbi StartedAt: 2023-04-11 15:09:55 -0400 (Tue, 11 Apr 2023) EndedAt: 2023-04-11 15:10:14 -0400 (Tue, 11 Apr 2023) EllapsedTime: 18.6 seconds RetCode: 0 Status: OK