Package: ALDEx2 Version: 1.31.0 Command: /home/biocbuild/bbs-3.17-bioc/R/bin/R CMD build --keep-empty-dirs --no-resave-data ALDEx2 StartedAt: 2023-04-12 02:10:45 -0400 (Wed, 12 Apr 2023) EndedAt: 2023-04-12 02:11:39 -0400 (Wed, 12 Apr 2023) EllapsedTime: 54.2 seconds RetCode: 0 Status: OK PackageFile: ALDEx2_1.31.0.tar.gz PackageFileSize: 1020 KiB