Package: GeoMxWorkflows Version: 1.0.1 Command: /home/biocbuild/bbs-3.14-bioc/R/bin/R CMD INSTALL GeoMxWorkflows StartedAt: 2022-04-11 15:00:08 -0400 (Mon, 11 Apr 2022) EndedAt: 2022-04-11 15:00:23 -0400 (Mon, 11 Apr 2022) EllapsedTime: 15.2 seconds RetCode: 0 Status: OK