| Back to Long Tests report for BioC 3.13 | 
This page was generated on 2021-12-11 17:30:01 -0500 (Sat, 11 Dec 2021).
| 
To the developers/maintainers of the clusterExperiment package: Please make sure to use the following settings in order to reproduce any error or warning you see on this page.  | 
| Package 12/20 | Hostname | OS / Arch | CHECK | |||||||
| clusterExperiment 2.15.1  (landing page) Elizabeth Purdom 
  | rex3 | Linux (Ubuntu 20.04.2 LTS) / x86_64 | ERROR | |||||||
| Package: clusterExperiment | 
| Version: 2.15.1 | 
| Command: /home/biocbuild/bbs-3.13-bioc/R/bin/R CMD build --keep-empty-dirs --no-resave-data --no-build-vignettes --no-manual clusterExperiment | 
| StartedAt: 2021-12-11 09:30:16 -0500 (Sat, 11 Dec 2021) | 
| EndedAt: 2021-12-11 09:30:25 -0500 (Sat, 11 Dec 2021) | 
| EllapsedTime: 9.3 seconds | 
| RetCode: 0 | 
| Status: OK | 
| PackageFile: clusterExperiment_2.15.1.tar.gz | 
| PackageFileSize: 3.989 MiB | 
############################################################################## ############################################################################## ### ### Running command: ### ### /home/biocbuild/bbs-3.13-bioc/R/bin/R CMD build --keep-empty-dirs --no-resave-data --no-build-vignettes --no-manual clusterExperiment ### ############################################################################## ############################################################################## * checking for file ‘clusterExperiment/DESCRIPTION’ ... OK * preparing ‘clusterExperiment’: * checking DESCRIPTION meta-information ... OK * cleaning src * checking for LF line-endings in source and make files and shell scripts * checking for empty or unneeded directories * looking to see if a ‘data/datalist’ file should be added * building ‘clusterExperiment_2.15.1.tar.gz’