| Back to Long Tests report for BioC 3.13 |
This page was generated on 2021-12-11 17:30:01 -0500 (Sat, 11 Dec 2021).
|
To the developers/maintainers of the GenomicFeatures package: Please make sure to use the following settings in order to reproduce any error or warning you see on this page. |
| Package 15/20 | Hostname | OS / Arch | CHECK | |||||||
| GenomicFeatures 1.47.3 (landing page) Bioconductor Package Maintainer
| rex3 | Linux (Ubuntu 20.04.2 LTS) / x86_64 | WARNINGS | |||||||
| Package: GenomicFeatures |
| Version: 1.47.3 |
| Command: /home/biocbuild/bbs-3.13-bioc/R/bin/R CMD build --keep-empty-dirs --no-resave-data --no-build-vignettes --no-manual GenomicFeatures |
| StartedAt: 2021-12-11 09:30:16 -0500 (Sat, 11 Dec 2021) |
| EndedAt: 2021-12-11 09:30:18 -0500 (Sat, 11 Dec 2021) |
| EllapsedTime: 2.5 seconds |
| RetCode: 0 |
| Status: OK |
| PackageFile: GenomicFeatures_1.47.3.tar.gz |
| PackageFileSize: 1.102 MiB |
##############################################################################
##############################################################################
###
### Running command:
###
### /home/biocbuild/bbs-3.13-bioc/R/bin/R CMD build --keep-empty-dirs --no-resave-data --no-build-vignettes --no-manual GenomicFeatures
###
##############################################################################
##############################################################################
* checking for file ‘GenomicFeatures/DESCRIPTION’ ... OK
* preparing ‘GenomicFeatures’:
* checking DESCRIPTION meta-information ... OK
* checking for LF line-endings in source and make files and shell scripts
* checking for empty or unneeded directories
NB: this package now depends on R (>= 3.5.0)
WARNING: Added dependency on R >= 3.5.0 because serialized objects in
serialize/load version 3 cannot be read in older versions of R.
File(s) containing such objects:
‘GenomicFeatures/inst/extdata/sample_ranges.rds’
* building ‘GenomicFeatures_1.47.3.tar.gz’