All our mirrors of open source software are available via http, https, ftp and an onion service. More information about our mirrors including statistics and contact information is available on our mirror info pages.
For information about dotsrc.org and our other services please go to our website.
| File Name ↓ | File Size ↓ | Date ↓ |
|---|---|---|
| Parent directory/ | - | - |
| AnnotationDbi/ | - | 2020-04-15 07:20:09 |
| AnnotationFilter/ | - | 2020-04-15 07:20:12 |
| AnnotationForge/ | - | 2020-04-15 07:20:09 |
| AnnotationHub/ | - | 2020-04-15 07:20:11 |
| BSgenome/ | - | 2020-04-15 07:20:10 |
| Biobase/ | - | 2020-04-15 07:20:09 |
| BiocFileCache/ | - | 2020-04-15 07:20:10 |
| BiocGenerics/ | - | 2020-04-15 07:20:09 |
| BiocNeighbors/ | - | 2020-04-15 07:20:12 |
| BiocParallel/ | - | 2020-04-15 07:20:09 |
| BiocStyle/ | - | 2020-04-15 07:20:09 |
| BiocVersion/ | - | 2020-04-15 07:20:09 |
| Biostrings/ | - | 2020-04-15 07:20:10 |
| DESeq/ | - | 2020-04-15 07:20:12 |
| DESeq2/ | - | 2020-04-15 07:20:12 |
| DEXSeq/ | - | 2020-04-15 07:20:14 |
| DelayedArray/ | - | 2020-04-15 07:20:10 |
| DelayedMatrixStats/ | - | 2020-04-15 07:20:10 |
| DynDoc/ | - | 2020-04-15 07:20:09 |
| ExperimentHub/ | - | 2020-04-15 07:20:11 |
| GenomeInfoDb/ | - | 2020-04-15 07:20:09 |
| GenomicAlignments/ | - | 2020-04-15 07:20:10 |
| GenomicFeatures/ | - | 2020-04-15 07:20:11 |
| GenomicRanges/ | - | 2020-04-15 07:20:10 |
| Gviz/ | - | 2020-04-15 07:20:14 |
| HDF5Array/ | - | 2020-04-15 07:20:12 |
| IRanges/ | - | 2020-04-15 07:20:09 |
| KEGGgraph/ | - | 2020-04-15 07:20:10 |
| MSnbase/ | - | 2020-04-15 07:20:15 |
| OrganismDbi/ | - | 2020-04-15 07:20:09 |
| ProtGenerics/ | - | 2020-04-15 07:20:14 |
| RBGL/ | - | 2020-04-15 07:20:14 |
| ROC/ | - | 2020-04-15 07:20:10 |
| RProtoBufLib/ | - | 2020-04-15 07:20:15 |
| Rgraphviz/ | - | 2020-04-15 07:20:14 |
| Rhdf5lib/ | - | 2020-04-15 07:20:11 |
| Rhtslib/ | - | 2020-04-15 07:20:10 |
| Rsamtools/ | - | 2020-04-15 07:20:10 |
| Rsubread/ | - | 2020-04-15 07:20:12 |
| S4Vectors/ | - | 2020-04-15 07:20:09 |
| SPIA/ | - | 2020-04-15 07:20:10 |
| ShortRead/ | - | 2020-04-15 07:20:11 |
| SingleCellExperiment/ | - | 2020-04-15 07:20:10 |
| SummarizedExperiment/ | - | 2020-04-15 07:20:10 |
| VariantAnnotation/ | - | 2020-04-15 07:20:11 |
| XVector/ | - | 2020-04-15 07:20:10 |
| affxparser/ | - | 2020-04-15 07:20:16 |
| affy/ | - | 2020-04-15 07:20:11 |
| affyio/ | - | 2020-04-15 07:20:11 |
| annotate/ | - | 2020-04-15 07:20:10 |
| apeglm/ | - | 2020-04-15 07:20:13 |
| basilisk/ | - | 2020-04-15 07:20:15 |
| basilisk.utils/ | - | 2020-04-15 07:20:15 |
| beachmat/ | - | 2020-04-15 07:20:12 |
| biomaRt/ | - | 2020-04-15 07:20:11 |
| biovizBase/ | - | 2020-04-15 07:20:14 |
| csaw/ | - | 2020-04-15 07:20:14 |
| cytolib/ | - | 2020-04-15 07:20:15 |
| edgeR/ | - | 2020-04-15 07:20:12 |
| ensembldb/ | - | 2020-04-15 07:20:14 |
| fishpond/ | - | 2020-04-15 07:20:14 |
| flowCore/ | - | 2020-04-15 07:20:15 |
| gdsfmt/ | - | 2020-04-15 07:20:11 |
| genefilter/ | - | 2020-04-15 07:20:10 |
| geneplotter/ | - | 2020-04-15 07:20:12 |
| ggbio/ | - | 2020-04-15 07:20:14 |
| graph/ | - | 2020-04-15 07:20:14 |
| illuminaio/ | - | 2020-04-15 07:20:12 |
| impute/ | - | 2020-04-15 07:20:11 |
| interactiveDisplayBase/ | - | 2020-04-15 07:20:11 |
| limma/ | - | 2020-04-15 07:20:12 |
| microRNA/ | - | 2020-04-15 07:20:10 |
| multtest/ | - | 2020-04-15 07:20:11 |
| mzID/ | - | 2020-04-15 07:20:14 |
| mzR/ | - | 2020-04-15 07:20:15 |
| nem/ | - | 2020-04-15 07:20:16 |
| pcaMethods/ | - | 2020-04-15 07:20:15 |
| preprocessCore/ | - | 2020-04-15 07:20:11 |
| qvalue/ | - | 2020-04-15 07:20:14 |
| rBiopaxParser/ | - | 2020-04-15 07:20:15 |
| rhdf5/ | - | 2020-04-15 07:20:11 |
| rtracklayer/ | - | 2020-04-15 07:20:10 |
| snpStats/ | - | 2020-04-15 07:20:11 |
| tkWidgets/ | - | 2020-04-15 07:20:09 |
| tximeta/ | - | 2020-04-15 07:20:12 |
| tximport/ | - | 2020-04-15 07:20:12 |
| vsn/ | - | 2020-04-15 07:20:12 |
| widgetTools/ | - | 2020-04-15 07:20:09 |
| zlibbioc/ | - | 2020-04-15 07:20:09 |
| 120px-Blue_Light_Icon.svg.png | 7.1 KiB | 2020-04-15 07:20:08 |
| 120px-Green_Light_Icon.svg.png | 7.1 KiB | 2020-04-15 07:20:08 |
| 120px-Red_Light_Icon.svg.png | 7.0 KiB | 2020-04-15 07:20:08 |
| DEVEL3b.png | 2.6 KiB | 2020-04-15 07:20:08 |
| Renviron.bioc | 1.8 KiB | 2020-04-15 07:20:08 |
| STATUS_DB.txt | 10.9 KiB | 2020-04-15 07:20:08 |
| index.html | 71.6 KiB | 2020-04-15 07:20:16 |
| malbec2-NodeInfo.html | 5.2 KiB | 2020-01-24 08:57:09 |
| malbec2-R-instpkgs.html | 409.8 KiB | 2020-01-24 08:57:09 |
| malbec2-index.html | 34.4 KiB | 2020-01-24 08:57:08 |
| meat-index.dcf | 21.4 KiB | 2020-04-15 07:20:07 |
| report.css | 6.0 KiB | 2020-04-15 07:20:08 |
| report.js | 5.1 KiB | 2020-04-15 07:20:08 |
| report.tgz | 1.3 MiB | 2020-04-15 07:20:17 |
| skipped-index.dcf | 0 B | 2020-04-15 07:20:08 |
| tokay2-NodeInfo.html | 4.7 KiB | 2020-04-15 07:20:16 |
| tokay2-R-instpkgs.html | 46.7 KiB | 2020-04-15 07:20:16 |
| tokay2-index.html | 36.4 KiB | 2020-01-24 08:57:09 |