| Back to Long Tests report for BioC 3.11 |
This page was generated on 2020-01-11 19:30:02 -0500 (Sat, 11 Jan 2020).
| Package 4/4 | Hostname | OS / Arch | CHECK | |||||
| HDF5Array 1.15.2 Hervé Pagès
| malbec2 | Linux (Ubuntu 18.04.3 LTS) / x86_64 | ERROR | |||||
| tokay2 | Windows Server 2012 R2 Standard / x64 | ERROR | ||||||
| celaya2 | OS X 10.11.6 El Capitan / x86_64 | ERROR |
| Package: HDF5Array |
| Version: 1.15.2 |
| Command: /Library/Frameworks/R.framework/Versions/Current/Resources/bin/R CMD build --keep-empty-dirs --no-resave-data --no-build-vignettes --no-manual HDF5Array |
| StartedAt: 2020-01-11 11:00:16 -0500 (Sat, 11 Jan 2020) |
| EndedAt: 2020-01-11 11:00:23 -0500 (Sat, 11 Jan 2020) |
| EllapsedTime: 7.2 seconds |
| RetCode: 0 |
| Status: OK |
| PackageFile: HDF5Array_1.15.2.tar.gz |
| PackageFileSize: 7.678 MiB |
############################################################################## ############################################################################## ### ### Running command: ### ### /Library/Frameworks/R.framework/Versions/Current/Resources/bin/R CMD build --keep-empty-dirs --no-resave-data --no-build-vignettes --no-manual HDF5Array ### ############################################################################## ############################################################################## * checking for file ‘HDF5Array/DESCRIPTION’ ... OK * preparing ‘HDF5Array’: * checking DESCRIPTION meta-information ... OK * cleaning src * checking for LF line-endings in source and make files and shell scripts * checking for empty or unneeded directories * building ‘HDF5Array_1.15.2.tar.gz’