See here for how to subscribe to these builds.
This page was generated on 2020-04-11 19:30:02 -0400 (Sat, 11 Apr 2020).
git log
| Snapshot Date: 2020-04-11 10:00:02 -0400 (Sat, 11 Apr 2020) |
| Hostname | OS | Arch (*) | Platform label (**) | R version | Installed pkgs |
|---|---|---|---|---|---|
| malbec1 | Linux (Ubuntu 18.04.4 LTS) | x86_64 | x86_64-linux-gnu | 3.6.3 (2020-02-29) -- "Holding the Windsock" | 3731 |
| Click on any hostname to see more info about the system (e.g. compilers) (*) as reported by 'uname -p', except on Windows and Mac OS X (**) as reported by 'gcc -v' | |||||
| SUMMARY | OS / Arch | CHECK | |||||
| malbec1 | Linux (Ubuntu 18.04.4 LTS) / x86_64 |
| |||||
| Package | Maintainer | CHECK | |||||
| 1/4 | beachmat 2.2.1 | Aaron Lun | OK | ||||
| 2/4 | BiocParallel 1.20.1 | Bioconductor Package Maintainer | WARNINGS | ||||
| 3/4 | GenomicFeatures 1.38.2 | Bioconductor Package Maintainer | WARNINGS | ||||
| 4/4 | HDF5Array 1.14.3 | Hervé Pagès | ERROR | ||||