EBarrays 2.17.0 Ming Yuan
 | Snapshot Date: 2011-07-06 19:21:50 -0700 (Wed, 06 Jul 2011) |  | URL: https://hedgehog.fhcrc.org/bioconductor/trunk/madman/Rpacks/EBarrays |  | Last Changed Rev: 56336 / Revision: 56603 |  | Last Changed Date: 2011-06-20 15:48:10 -0700 (Mon, 20 Jun 2011) |  
  | wilson2  | Linux (openSUSE 11.4) / x86_64  |  OK  |  OK  |  | 
| liverpool  | Windows Server 2003 R2 (32-bit) / x64  |  OK  |  OK  |  OK  | 
| gewurz  | Windows Server 2008 R2 Enterprise (64-bit) / x64  |  OK  |  OK  |  OK  | 
| moscato1  | Windows Server 2008 R2 Enterprise (64-bit) / x64  |  OK  |  OK  | [ OK ] | 
| pitt  | Mac OS X Leopard (10.5.8) / i386  |  OK  |  OK  |  OK  | 
install for i386
* installing *source* package 'EBarrays' ...
** libs
gcc  -I"D:/biocbld/BBS-2˜1.9-B/R/include"          -O3 -Wall  -std=gnu99 -mtune=core2 -c ebarrays.c -o ebarrays.o
gcc -shared -s -static-libgcc -o EBarrays.dll tmp.def ebarrays.o -LD:/biocbld/BBS-2˜1.9-B/R/bin/i386 -lR
installing to D:/biocbld/bbs-2.9-bioc/meat/EBarrays.buildbin-libdir/EBarrays/libs/i386
** R
** data
** demo
** inst
** preparing package for lazy loading
Welcome to Bioconductor
  Vignettes contain introductory material. To view, type
  'browseVignettes()'. To cite Bioconductor, see
  'citation("Biobase")' and for packages 'citation("pkgname")'.
** help
*** installing help indices
** building package indices ...
*** tangling vignette sources ...
   'vignette.Rnw' 
** testing if installed package can be loaded
add DLL for x64
* installing *source* package 'EBarrays' ...
** libs
x86_64-w64-mingw32-gcc  -I"D:/biocbld/BBS-2˜1.9-B/R/include"          -O2 -Wall  -std=gnu99 -mtune=core2 -c ebarrays.c -o ebarrays.o
x86_64-w64-mingw32-gcc -shared -s -static-libgcc -o EBarrays.dll tmp.def ebarrays.o -LD:/biocbld/BBS-2˜1.9-B/R/bin/x64 -lR
installing to D:/biocbld/bbs-2.9-bioc/meat/EBarrays.buildbin-libdir/EBarrays/libs/x64
** testing if installed package can be loaded
* MD5 sums
packaged installation of 'EBarrays' as EBarrays_2.17.0.zip
* DONE (EBarrays)