All our mirrors of open source software are available via http, https, ftp and an onion service. More information about our mirrors including statistics and contact information is available on our mirror info pages.
For information about dotsrc.org and our other services please go to our website.
| File Name ↓ | File Size ↓ | Date ↓ |
|---|---|---|
| Parent directory/ | - | - |
| ALL/ | - | 2011-04-07 01:35:53 |
| ALLMLL/ | - | 2011-04-07 01:35:53 |
| AffymetrixDataTestFiles/ | - | 2011-04-07 01:35:53 |
| AmpAffyExample/ | - | 2011-04-07 01:35:53 |
| CCl4/ | - | 2011-04-07 01:35:56 |
| CLL/ | - | 2011-04-07 01:35:53 |
| DLBCL/ | - | 2011-04-07 01:35:59 |
| EatonEtAlChIPseq/ | - | 2011-04-07 01:35:59 |
| GGdata/ | - | 2011-04-07 01:35:54 |
| GenomicFeatures.Hsapiens.UCSC.hg18/ | - | 2011-02-02 02:36:26 |
| GenomicFeatures.Mmusculus.UCSC.mm9/ | - | 2011-02-02 02:36:26 |
| HEEBOdata/ | - | 2011-04-07 01:35:54 |
| HIVcDNAvantWout03/ | - | 2011-04-07 01:35:55 |
| ITALICSData/ | - | 2011-04-07 01:35:58 |
| Iyer517/ | - | 2011-04-07 01:35:55 |
| MAQCsubset/ | - | 2011-04-07 01:35:55 |
| MAQCsubsetAFX/ | - | 2011-04-07 01:35:57 |
| MAQCsubsetILM/ | - | 2011-04-07 01:35:57 |
| MEEBOdata/ | - | 2011-04-07 01:35:55 |
| Neve2006/ | - | 2011-04-07 01:35:56 |
| ProData/ | - | 2011-04-07 01:35:55 |
| RNAinteractMAPK/ | - | 2011-04-07 01:36:00 |
| SNAData/ | - | 2011-04-07 01:35:55 |
| SpikeIn/ | - | 2011-04-07 01:35:55 |
| SpikeInSubset/ | - | 2011-04-07 01:35:55 |
| TargetSearchData/ | - | 2011-04-07 01:35:58 |
| XhybCasneuf/ | - | 2011-04-07 01:35:57 |
| affycompData/ | - | 2011-04-07 01:36:00 |
| affydata/ | - | 2011-04-07 01:35:53 |
| beta7/ | - | 2011-04-07 01:35:53 |
| breastCancerMAINZ/ | - | 2011-04-07 01:36:00 |
| breastCancerNKI/ | - | 2011-04-07 01:36:00 |
| breastCancerTRANSBIG/ | - | 2011-04-07 01:36:00 |
| breastCancerUNT/ | - | 2011-04-07 01:36:00 |
| breastCancerUPP/ | - | 2011-04-07 01:36:00 |
| breastCancerVDX/ | - | 2011-04-07 01:36:00 |
| bronchialIL13/ | - | 2011-04-07 01:35:53 |
| ccTutorial/ | - | 2011-04-07 01:35:57 |
| ceu1kg/ | - | 2011-04-07 01:35:59 |
| ceuhm3/ | - | 2011-04-07 01:35:59 |
| charmData/ | - | 2011-04-07 01:35:59 |
| colonCA/ | - | 2011-04-07 01:35:54 |
| davidTiling/ | - | 2011-04-07 01:35:54 |
| dressCheck/ | - | 2011-04-07 01:35:59 |
| dyebiasexamples/ | - | 2011-04-07 01:35:58 |
| ecoliLeucine/ | - | 2011-04-07 01:35:54 |
| encoDnaseI/ | - | 2011-04-07 01:35:57 |
| estrogen/ | - | 2011-04-07 01:35:54 |
| faahKO/ | - | 2011-04-07 01:35:54 |
| facsDorit/ | - | 2011-04-07 01:35:54 |
| fibroEset/ | - | 2011-04-07 01:35:54 |
| frmaExampleData/ | - | 2011-04-07 01:35:58 |
| gageData/ | - | 2011-04-07 01:36:00 |
| gaschYHS/ | - | 2011-04-07 01:35:54 |
| gatingMLData/ | - | 2011-04-07 01:35:54 |
| gcspikelite/ | - | 2011-04-07 01:35:58 |
| geneLenDataBase/ | - | 2011-04-07 01:35:59 |
| golubEsets/ | - | 2011-04-07 01:35:54 |
| hapmap100khind/ | - | 2011-04-07 01:35:56 |
| hapmap100kxba/ | - | 2011-04-07 01:35:56 |
| hapmap500knsp/ | - | 2011-04-07 01:35:57 |
| hapmap500ksty/ | - | 2011-04-07 01:35:57 |
| hapmapsnp5/ | - | 2011-04-07 01:35:57 |
| hapmapsnp6/ | - | 2011-04-07 01:35:57 |
| harbChIP/ | - | 2011-04-07 01:35:54 |
| hgu133abarcodevecs/ | - | 2011-04-07 01:35:59 |
| hgu133afrmavecs/ | - | 2011-04-07 01:35:58 |
| hgu133plus2barcodevecs/ | - | 2011-04-07 01:35:59 |
| hgu133plus2frmavecs/ | - | 2011-04-07 01:35:58 |
| hgu2beta7/ | - | 2011-04-07 01:35:55 |
| hmyriB36/ | - | 2011-04-07 01:35:58 |
| humanStemCell/ | - | 2011-04-07 01:35:58 |
| ind1KG/ | - | 2011-04-07 01:35:58 |
| kidpack/ | - | 2011-04-07 01:35:55 |
| leeBamViews/ | - | 2011-04-07 01:35:59 |
| lumiBarnes/ | - | 2011-04-07 01:35:56 |
| lungExpression/ | - | 2011-04-07 01:35:56 |
| maqcExpression4plex/ | - | 2011-04-07 01:35:56 |
| mosaicsExample/ | - | 2011-04-07 01:36:00 |
| mouse4302barcodevecs/ | - | 2011-04-07 01:35:59 |
| mouse4302frmavecs/ | - | 2011-04-07 01:35:59 |
| msdata/ | - | 2011-04-07 01:35:57 |
| mvoutData/ | - | 2011-04-07 01:35:58 |
| ppiData/ | - | 2011-04-07 01:35:55 |
| pumadata/ | - | 2011-04-07 01:35:56 |
| rfcdmin/ | - | 2011-04-07 01:35:55 |
| simpIntLists/ | - | 2011-04-07 01:36:00 |
| stjudem/ | - | 2011-04-07 01:35:56 |
| tinesath1cdf/ | - | 2011-04-07 01:35:57 |
| tinesath1probe/ | - | 2011-04-07 01:35:57 |
| yeastCC/ | - | 2011-04-07 01:35:56 |
| yeastExpData/ | - | 2011-04-07 01:35:56 |
| yeastGSData/ | - | 2011-04-07 01:35:57 |
| yeastRNASeq/ | - | 2011-04-07 01:35:58 |
| STATUS_DB.txt | 22.9 KiB | 2011-04-07 01:35:38 |
| gewurz-NodeInfo.html | 4.9 KiB | 2011-04-07 01:36:01 |
| gewurz-R-instpkgs.html | 49.1 KiB | 2011-04-07 01:36:01 |
| gewurz-index.html | 66.2 KiB | 2011-04-07 01:36:01 |
| index.html | 249.3 KiB | 2011-04-07 01:36:02 |
| lamb2-NodeInfo.html | 4.7 KiB | 2011-04-07 01:36:01 |
| lamb2-R-instpkgs.html | 49.8 KiB | 2011-04-07 01:36:01 |
| lamb2-index.html | 57.3 KiB | 2011-04-07 01:36:00 |
| liverpool-NodeInfo.html | 4.6 KiB | 2010-11-12 02:36:17 |
| liverpool-R-instpkgs.html | 48.4 KiB | 2010-11-12 02:36:17 |
| liverpool-index.html | 62.8 KiB | 2010-11-12 02:36:16 |
| meat-index.txt | 15.6 KiB | 2011-04-07 01:35:34 |
| pelham-NodeInfo.html | 4.9 KiB | 2011-02-28 02:36:46 |
| pelham-R-instpkgs.html | 47.9 KiB | 2011-02-28 02:36:46 |
| pelham-index.html | 59.9 KiB | 2011-02-28 02:36:46 |
| petty-NodeInfo.html | 4.9 KiB | 2011-04-07 01:36:01 |
| petty-R-instpkgs.html | 22.6 KiB | 2011-04-07 01:36:01 |
| petty-index.html | 65.7 KiB | 2011-04-07 01:36:01 |
| report.css | 6.0 KiB | 2011-04-07 01:35:38 |
| report.js | 3.9 KiB | 2011-04-07 01:35:38 |
| report.tgz | 327.8 KiB | 2011-04-07 01:36:02 |