All our mirrors of open source software are available via http, https, ftp and an onion service. More information about our mirrors including statistics and contact information is available on our mirror info pages.
For information about dotsrc.org and our other services please go to our website.
| File Name ↓ | File Size ↓ | Date ↓ |
|---|---|---|
| Parent directory/ | - | - |
| ALL/ | - | 2008-04-10 11:45:52 |
| ALLMLL/ | - | 2008-04-10 11:45:52 |
| AffymetrixDataTestFiles/ | - | 2008-04-10 11:45:52 |
| AmpAffyExample/ | - | 2008-04-10 11:45:52 |
| CCl4/ | - | 2008-04-10 11:45:54 |
| CLL/ | - | 2008-04-10 11:45:52 |
| GGdata/ | - | 2008-04-10 11:45:54 |
| HEEBOdata/ | - | 2008-04-10 11:45:54 |
| HIVcDNAvantWout03/ | - | 2008-04-10 11:45:54 |
| Iyer517/ | - | 2008-04-10 11:45:54 |
| MAQCsubset/ | - | 2008-04-10 11:45:54 |
| MAQCsubsetAFX/ | - | 2008-04-10 11:45:54 |
| MAQCsubsetILM/ | - | 2008-04-10 11:45:55 |
| MEEBOdata/ | - | 2008-04-10 11:45:54 |
| Neve2006/ | - | 2008-04-10 11:45:54 |
| ProData/ | - | 2008-04-10 11:45:54 |
| SNAData/ | - | 2008-04-10 11:45:54 |
| SpikeIn/ | - | 2008-04-10 11:45:54 |
| SpikeInSubset/ | - | 2008-04-10 11:45:54 |
| XhybCasneuf/ | - | 2008-04-10 11:45:54 |
| affydata/ | - | 2008-04-10 11:45:52 |
| beta7/ | - | 2008-04-10 11:45:52 |
| bronchialIL13/ | - | 2008-04-10 11:45:52 |
| colonCA/ | - | 2008-04-10 11:45:52 |
| davidTiling/ | - | 2008-04-10 11:45:52 |
| ecoliLeucine/ | - | 2008-04-10 11:45:53 |
| encoDnaseI/ | - | 2008-04-10 11:45:55 |
| estrogen/ | - | 2008-04-10 11:45:54 |
| faahKO/ | - | 2008-04-10 11:45:54 |
| facsDorit/ | - | 2008-04-10 11:45:54 |
| fibroEset/ | - | 2008-04-10 11:45:54 |
| gaschYHS/ | - | 2008-04-10 11:45:54 |
| golubEsets/ | - | 2008-04-10 11:45:54 |
| hapmap100khind/ | - | 2008-04-10 11:45:54 |
| hapmap100kxba/ | - | 2008-04-10 11:45:54 |
| hapmap500knsp/ | - | 2008-04-10 11:45:54 |
| hapmap500ksty/ | - | 2008-04-10 11:45:54 |
| hapmapsnp5/ | - | 2008-04-10 11:45:55 |
| hapmapsnp6/ | - | 2008-04-10 11:45:55 |
| harbChIP/ | - | 2008-04-10 11:45:54 |
| hgu2beta7/ | - | 2008-04-10 11:45:54 |
| kidpack/ | - | 2008-04-10 11:45:54 |
| lumiBarnes/ | - | 2008-04-10 11:45:54 |
| lungExpression/ | - | 2008-04-10 11:45:54 |
| maqcExpression4plex/ | - | 2008-04-10 11:45:54 |
| msdata/ | - | 2008-04-10 11:45:55 |
| ppiData/ | - | 2008-04-10 11:45:54 |
| pumadata/ | - | 2008-04-10 11:45:54 |
| rfcdmin/ | - | 2008-04-10 11:45:54 |
| stjudem/ | - | 2008-04-10 11:45:54 |
| tinesath1cdf/ | - | 2008-04-10 11:45:54 |
| tinesath1probe/ | - | 2008-04-10 11:45:54 |
| yeastCC/ | - | 2008-04-10 11:45:54 |
| yeastExpData/ | - | 2008-04-10 11:45:54 |
| yeastGSData/ | - | 2008-04-10 11:45:55 |
| STATUS_DB.txt | 13.1 KiB | 2008-04-10 11:45:49 |
| index.html | 146.4 KiB | 2008-04-10 11:45:55 |
| lamb1-NodeInfo.html | 4.1 KiB | 2008-04-10 11:45:55 |
| lamb1-R-instpkgs.html | 25.3 KiB | 2008-04-10 11:45:55 |
| lamb1-index.html | 35.0 KiB | 2008-04-10 11:45:55 |
| lemming-NodeInfo.html | 3.8 KiB | 2008-04-10 11:45:55 |
| lemming-R-instpkgs.html | 25.2 KiB | 2008-04-10 11:45:55 |
| lemming-index.html | 40.6 KiB | 2008-04-10 11:45:55 |
| meat-index.txt | 9.0 KiB | 2008-04-10 11:45:31 |
| pitt-NodeInfo.html | 4.3 KiB | 2008-04-10 11:45:55 |
| pitt-R-instpkgs.html | 25.1 KiB | 2008-04-10 11:45:55 |
| pitt-index.html | 39.7 KiB | 2008-04-10 11:45:55 |
| report.css | 5.5 KiB | 2008-04-10 11:45:49 |
| report.tgz | 163.6 KiB | 2008-04-10 11:45:55 |