Back to the "Multiple platform build/check report"
| Package 144/214 | Hostname | OS | Arch | BUILD | CHECK | BUILD BIN | 
| pathRender1.4.0Li LongLast Changed Date: 2007-04-24 11:21:48 -0700 Last Changed Rev: 24214 | lamb1 | Linux (SUSE 10.1) | x86_64 | OK | [ OK ] | |
| wellington | Linux (SUSE 9.2) | i686 | OK | OK | ||
| lemming | Windows Server 2003 (32-bit) | x64 | OK | OK | OK | 
| Package: pathRender | 
| Version: 1.4.0 | 
| Command: /home/biocbuild/bbs-2.0-bioc/R/bin/R CMD check pathRender_1.4.0.tar.gz | 
| RetCode: 0 | 
| Time: 38.5 seconds | 
| Status: OK | 
| CheckDir: pathRender.Rcheck | 
| Warnings: 0 | 
* checking for working latex ... OK * using log directory '/home/biocbuild/bbs-2.0-bioc/meat/pathRender.Rcheck' * using R version 2.5.1 (2007-06-27) * checking for file 'pathRender/DESCRIPTION' ... OK * this is package 'pathRender' version '1.4.0' * checking package dependencies ... OK * checking if this is a source package ... OK * checking whether package 'pathRender' can be installed ... OK * checking package directory ... OK * checking for portable file names ... OK * checking for sufficient/correct file permissions ... OK * checking DESCRIPTION meta-information ... OK * checking top-level files ... OK * checking index information ... OK * checking package subdirectories ... OK * checking R files for non-ASCII characters ... OK * checking R files for syntax errors ... OK * checking whether the package can be loaded ... OK * checking whether the package can be loaded with stated dependencies ... OK * checking whether the name space can be loaded with stated dependencies ... OK * checking for unstated dependencies in R code ... OK * checking S3 generic/method consistency ... OK * checking replacement functions ... OK * checking foreign function calls ... OK * checking R code for possible problems ... OK * checking Rd files ... OK * checking Rd cross-references ... OK * checking for missing documentation entries ... OK * checking for code/documentation mismatches ... OK * checking Rd \usage sections ... OK * creating pathRender-Ex.R ... OK * checking examples ... OK * creating pathRender-manual.tex ... OK * checking pathRender-manual.tex ... OK
pathRender.Rcheck/00install.out:
* Installing *source* package 'pathRender' ...
** R
** save image
Loading required package: graph
Loading required package: Rgraphviz
Loading required package: geneplotter
Loading required package: annotate
Loading required package: Biobase
Loading required package: tools
Welcome to Bioconductor
  Vignettes contain introductory material. To view, type
  'openVignette()'. To cite Bioconductor, see
  'citation("Biobase")' and for packages 'citation(pkgname)'.
Loading required package: lattice
KernSmooth 2.22 installed
Copyright M. P. Wand 1997
Attaching package: 'Rgraphviz'
	The following object(s) are masked from package:annotate :
	 toFile 
Loading required package: cMAP
** help
 >>> Building/Updating help pages for package 'pathRender'
     Formats: text html latex example 
  rendercMAP                        text    html    latex   example
** building package indices ...
* DONE (pathRender)