Back to Multiple platform build/check report
| Package: hypergraph |
| Version: 1.4.0 |
| Command: D:\biocbld\R-2.3.0\bin\R.exe CMD INSTALL --build hypergraph_1.4.0.tar.gz |
| RetCode: 0 |
| Time: 15.5 seconds |
| Status: OK |
| PackageFile: hypergraph_1.4.0.zip |
Using auto-selected zip options ''
---------- Making package hypergraph ------------
adding build stamp to DESCRIPTION
installing NAMESPACE file and metadata
installing R files
save image
Loading required package: graph
Loading required package: Ruuid
installing inst files
installing man source files
installing indices
installing help
>>> Building/Updating help pages for package 'hypergraph'
Formats: text html latex example chm
DirectedHyperedge-class text html latex example chm
DirectedHyperedge text html latex chm
Hyperedge-class text html latex example chm
Hyperedge text html latex chm
Hypergraph-class text html latex example chm
Hypergraph text html latex chm
l2hel text html latex example chm
Microsoft HTML Help Compiler 4.74.8702
Compiling d:\biocbld\work-area\1.8d\madman\Rpacks\R.INSTALL\hypergraph\chm\hypergraph.chm
Compile time: 0 minutes, 0 seconds
8 Topics
70 Local links
0 Internet links
1 Graphic
Created d:\biocbld\work-area\1.8d\madman\Rpacks\R.INSTALL\hypergraph\chm\hypergraph.chm, 21,259 bytes
Compression decreased file by 10,870 bytes.
adding MD5 sums
packaged installation of package 'hypergraph' as hypergraph_1.4.0.zip
* DONE (hypergraph)