Back to Multiple platform build/check report
| Package: exprExternal |
| Version: 1.4.0 |
| Command: D:\biocbld\R-2.3.0\bin\R.exe CMD INSTALL --build exprExternal_1.4.0.tar.gz |
| RetCode: 0 |
| Time: 7.0 seconds |
| Status: OK |
| PackageFile: exprExternal_1.4.0.zip |
Using auto-selected zip options ''
---------- Making package exprExternal ------------
adding build stamp to DESCRIPTION
installing R files
installing man source files
installing indices
installing help
>>> Building/Updating help pages for package 'exprExternal'
Formats: text html latex example chm
exprExternal-class text html latex example chm
Microsoft HTML Help Compiler 4.74.8702
Compiling d:\biocbld\work-area\1.8d\madman\Rpacks\R.INSTALL\exprExternal\chm\exprExternal.chm
Compile time: 0 minutes, 0 seconds
2 Topics
12 Local links
0 Internet links
1 Graphic
Created d:\biocbld\work-area\1.8d\madman\Rpacks\R.INSTALL\exprExternal\chm\exprExternal.chm, 19,383 bytes
Compression increased file by 3,378 bytes.
adding MD5 sums
packaged installation of package 'exprExternal' as exprExternal_1.4.0.zip
* DONE (exprExternal)