Back to Multiple platform build/check report
| Package: RdbiPgSQL |
| Version: 1.6.0 |
| Command: D:\biocbld\R-2.3.0\bin\R.exe CMD INSTALL --build RdbiPgSQL_1.6.0.tar.gz |
| RetCode: 1 |
| Time: 2.0 seconds |
| Status: ERROR |
| PackageFile: None |
Using auto-selected zip options ''
---------- Making package RdbiPgSQL ------------
**********************************************
WARNING: this package has a configure script
It probably needs manual configuration
**********************************************
adding build stamp to DESCRIPTION
installing NAMESPACE file and metadata
making DLL ...
making PgSQL.d from PgSQL.c
PgSQL.c:10:22: libpq-fe.h: No such file or directory
make[3]: *** [PgSQL.d] Error 1
make[2]: *** [srcDynlib] Error 2
make[1]: *** [all] Error 2
make: *** [pkg-RdbiPgSQL] Error 2
*** Installation of RdbiPgSQL failed ***
Removing 'D:/biocbld/R-2.3.0/library/RdbiPgSQL'