Back to Multiple platform build/check report
| Package: MVCClass |
| Version: 1.6.0 |
| Command: D:\biocbld\R-2.3.0\bin\R.exe CMD INSTALL --build MVCClass_1.6.0.tar.gz |
| RetCode: 0 |
| Time: 12.5 seconds |
| Status: OK |
| PackageFile: MVCClass_1.6.0.zip |
Using auto-selected zip options ' MVCClass-HELP=ziponly'
---------- Making package MVCClass ------------
adding build stamp to DESCRIPTION
installing NAMESPACE file and metadata
installing R files
installing inst files
installing man source files
installing indices
installing help
>>> Building/Updating help pages for package 'MVCClass'
Formats: text html latex example chm
MVC-class text html latex example chm
dfModel-class text html latex example chm
exprModel-class text html latex example chm
gAddChildMessage-class text html latex example chm
gAddDataMessage-class text html latex example chm
gAddMessage-class text html latex example chm
gAddViewMessage-class text html latex example chm
gEventFun-class text html latex example chm
gMessage-class text html latex example chm
gModel-class text html latex example chm
gSendChildMessage-class text html latex example chm
gSendParentMessage-class text html latex example chm
gUpdateDataMessage-class text html latex example chm
gUpdateMessage-class text html latex example chm
gUpdateViewMessage-class text html latex example chm
genView-class text html latex example chm
graphModel-class text html latex example chm
graphView-class text html latex example chm
heatmapView-class text html latex example chm
plotView-class text html latex example chm
sPlotView-class text html latex example chm
spreadView-class text html latex example chm
zipping help files
Microsoft HTML Help Compiler 4.74.8702
Compiling d:\biocbld\work-area\1.8d\madman\Rpacks\R.INSTALL\MVCClass\chm\MVCClass.chm
Compile time: 0 minutes, 0 seconds
23 Topics
237 Local links
0 Internet links
1 Graphic
Created d:\biocbld\work-area\1.8d\madman\Rpacks\R.INSTALL\MVCClass\chm\MVCClass.chm, 36,939 bytes
Compression decreased file by 85,698 bytes.
adding MD5 sums
packaged installation of package 'MVCClass' as MVCClass_1.6.0.zip
* DONE (MVCClass)