Back to Multiple platform build/check report
| Package: arrayQuality |
| Version: 1.8.0 |
| Command: /home/biocbuild/arch/sparc/R-2.3.0/bin/R CMD build arrayQuality |
| RetCode: 0 |
| Time: 16.4 seconds |
| Status: OK |
| PackageFile: arrayQuality_1.8.0.tar.gz |
* checking for file 'arrayQuality/DESCRIPTION' ... OK * preparing 'arrayQuality': * checking DESCRIPTION meta-information ... OK * checking whether 'INDEX' is up-to-date ... NO * use '--force' to overwrite the existing 'INDEX' * removing junk files * checking for LF line-endings in source files * checking for empty or unneeded directories * building 'arrayQuality_1.8.0.tar.gz'